BEGIN:VCALENDAR
VERSION:2.0
PRODID:-//Usinger Tennis Club e.V. - ECPv6.15.20//NONSGML v1.0//EN
CALSCALE:GREGORIAN
METHOD:PUBLISH
X-ORIGINAL-URL:https://uthc.de
X-WR-CALDESC:Veranstaltungen für Usinger Tennis Club e.V.
REFRESH-INTERVAL;VALUE=DURATION:PT1H
X-Robots-Tag:noindex
X-PUBLISHED-TTL:PT1H
BEGIN:VTIMEZONE
TZID:Europe/Berlin
BEGIN:DAYLIGHT
TZOFFSETFROM:+0100
TZOFFSETTO:+0200
TZNAME:CEST
DTSTART:20250330T010000
END:DAYLIGHT
BEGIN:STANDARD
TZOFFSETFROM:+0200
TZOFFSETTO:+0100
TZNAME:CET
DTSTART:20251026T010000
END:STANDARD
BEGIN:DAYLIGHT
TZOFFSETFROM:+0100
TZOFFSETTO:+0200
TZNAME:CEST
DTSTART:20260329T010000
END:DAYLIGHT
BEGIN:STANDARD
TZOFFSETFROM:+0200
TZOFFSETTO:+0100
TZNAME:CET
DTSTART:20261025T010000
END:STANDARD
BEGIN:DAYLIGHT
TZOFFSETFROM:+0100
TZOFFSETTO:+0200
TZNAME:CEST
DTSTART:20270328T010000
END:DAYLIGHT
BEGIN:STANDARD
TZOFFSETFROM:+0200
TZOFFSETTO:+0100
TZNAME:CET
DTSTART:20271031T010000
END:STANDARD
END:VTIMEZONE
BEGIN:VEVENT
DTSTART;TZID=Europe/Berlin:20260425T150000
DTEND;TZID=Europe/Berlin:20260425T230000
DTSTAMP:20260422T174201
CREATED:20260113T163542Z
LAST-MODIFIED:20260113T170504Z
UID:300313-1777129200-1777158000@uthc.de
SUMMARY:Saisoneröffnung
DESCRIPTION:
URL:https://uthc.de/event/saisoneroeffnung-2/
LOCATION:UTHC Clubhaus\, Am Hattsteinweiher 3\, Usingen\, Hessen\, 61250\, Deutschland
CATEGORIES:Veranstaltungen
ATTACH;FMTTYPE=image/jpeg:https://uthc.de/wp-content/uploads/2025/06/Schleifchenturnier-2025-09.jpg
ORGANIZER;CN="UTHC-Event / Organisiert von Simone Richter":MAILTO:events@uthc.de
END:VEVENT
BEGIN:VEVENT
DTSTART;TZID=Europe/Berlin:20260525T100000
DTEND;TZID=Europe/Berlin:20260525T150000
DTSTAMP:20260422T174201
CREATED:20260113T163641Z
LAST-MODIFIED:20260113T170316Z
UID:300315-1779703200-1779721200@uthc.de
SUMMARY:Schleifchenturnier
DESCRIPTION:
URL:https://uthc.de/event/schleifchenturnier/
LOCATION:Hessen
CATEGORIES:Schleifchenturnier
ATTACH;FMTTYPE=image/jpeg:https://uthc.de/wp-content/uploads/2023/05/Schleifchen_29.05.23-8.jpg
ORGANIZER;CN="UTHC-Event / Organisiert von Simone Richter":MAILTO:events@uthc.de
END:VEVENT
BEGIN:VEVENT
DTSTART;TZID=Europe/Berlin:20260711T100000
DTEND;TZID=Europe/Berlin:20260711T150000
DTSTAMP:20260422T174201
CREATED:20260113T163741Z
LAST-MODIFIED:20260113T165914Z
UID:300317-1783764000-1783782000@uthc.de
SUMMARY:Ferienliga
DESCRIPTION:
URL:https://uthc.de/event/ferienliga-2/
LOCATION:UTHC Clubhaus\, Am Hattsteinweiher 3\, Usingen\, Hessen\, 61250\, Deutschland
CATEGORIES:Ferienliga
ATTACH;FMTTYPE=image/jpeg:https://uthc.de/wp-content/uploads/2023/07/Saisonabschluss_17-07-23-55_1.jpg
ORGANIZER;CN="UTHC-Event / Organisiert von Simone Richter":MAILTO:events@uthc.de
END:VEVENT
BEGIN:VEVENT
DTSTART;TZID=Europe/Berlin:20260718T100000
DTEND;TZID=Europe/Berlin:20260718T150000
DTSTAMP:20260422T174201
CREATED:20260113T164227Z
LAST-MODIFIED:20260113T165827Z
UID:300319-1784368800-1784386800@uthc.de
SUMMARY:Ferienliga
DESCRIPTION:
URL:https://uthc.de/event/ferienliga-3/
LOCATION:UTHC Clubhaus\, Am Hattsteinweiher 3\, Usingen\, Hessen\, 61250\, Deutschland
CATEGORIES:Ferienliga
ATTACH;FMTTYPE=image/jpeg:https://uthc.de/wp-content/uploads/2023/07/Saisonabschluss_17-07-23-55_1.jpg
ORGANIZER;CN="UTHC-Event / Organisiert von Simone Richter":MAILTO:events@uthc.de
END:VEVENT
BEGIN:VEVENT
DTSTART;TZID=Europe/Berlin:20260725T100000
DTEND;TZID=Europe/Berlin:20260725T150000
DTSTAMP:20260422T174201
CREATED:20260113T164411Z
LAST-MODIFIED:20260113T165738Z
UID:300321-1784973600-1784991600@uthc.de
SUMMARY:Ferienliga
DESCRIPTION:
URL:https://uthc.de/event/ferienliga-4/
LOCATION:UTHC Clubhaus\, Am Hattsteinweiher 3\, Usingen\, Hessen\, 61250\, Deutschland
CATEGORIES:Ferienliga
ATTACH;FMTTYPE=image/jpeg:https://uthc.de/wp-content/uploads/2023/07/Saisonabschluss_17-07-23-55_1.jpg
ORGANIZER;CN="UTHC-Event / Organisiert von Simone Richter":MAILTO:events@uthc.de
END:VEVENT
BEGIN:VEVENT
DTSTART;TZID=Europe/Berlin:20260801T100000
DTEND;TZID=Europe/Berlin:20260801T150000
DTSTAMP:20260422T174201
CREATED:20260113T164551Z
LAST-MODIFIED:20260113T165636Z
UID:300323-1785578400-1785596400@uthc.de
SUMMARY:Ferienliga
DESCRIPTION:
URL:https://uthc.de/event/ferienliga-5/
LOCATION:UTHC Clubhaus\, Am Hattsteinweiher 3\, Usingen\, Hessen\, 61250\, Deutschland
CATEGORIES:Ferienliga
ATTACH;FMTTYPE=image/jpeg:https://uthc.de/wp-content/uploads/2023/07/Saisonabschluss_17-07-23-55_1.jpg
ORGANIZER;CN="UTHC-Event / Organisiert von Simone Richter":MAILTO:events@uthc.de
END:VEVENT
BEGIN:VEVENT
DTSTART;VALUE=DATE:20260913
DTEND;VALUE=DATE:20260914
DTSTAMP:20260422T174201
CREATED:20260113T164944Z
LAST-MODIFIED:20260113T170722Z
UID:300325-1789257600-1789343999@uthc.de
SUMMARY:TTT - Taunus Triple Trophy
DESCRIPTION:Dieses Jahr ist der UTHC wieder an der Reihe\, die TTT auszutragen. Gelingt es\, den Pokal zu verteidigen?
URL:https://uthc.de/event/ttt-taunus-triple-trophy/
LOCATION:UTHC Clubhaus\, Am Hattsteinweiher 3\, Usingen\, Hessen\, 61250\, Deutschland
CATEGORIES:Taunus Triple Trophy
ATTACH;FMTTYPE=image/jpeg:https://uthc.de/wp-content/uploads/2023/09/UTHC_TTT_web_hoch_04-09-23-66.jpg
ORGANIZER;CN="Usinger Tennis Club e.V.":MAILTO:events@uthc.de
END:VEVENT
BEGIN:VEVENT
DTSTART;TZID=Europe/Berlin:20261017T100000
DTEND;TZID=Europe/Berlin:20261017T140000
DTSTAMP:20260422T174201
CREATED:20260113T165210Z
LAST-MODIFIED:20260113T170000Z
UID:300327-1792231200-1792245600@uthc.de
SUMMARY:Jobbörse
DESCRIPTION:
URL:https://uthc.de/event/jobboerse-4/
LOCATION:UTHC Clubhaus\, Am Hattsteinweiher 3\, Usingen\, Hessen\, 61250\, Deutschland
CATEGORIES:Jobbörse
ATTACH;FMTTYPE=image/jpeg:https://uthc.de/wp-content/uploads/2022/04/UTHC-Jobboerse-Fruehling-04-2022_1169.jpeg
ORGANIZER;CN="Platzwart":MAILTO:platzwart@uthc.de
END:VEVENT
BEGIN:VEVENT
DTSTART;TZID=Europe/Berlin:20261017T140000
DTEND;TZID=Europe/Berlin:20261017T230000
DTSTAMP:20260422T174201
CREATED:20260113T165510Z
LAST-MODIFIED:20260113T165510Z
UID:300329-1792245600-1792278000@uthc.de
SUMMARY:Saisonabschluss
DESCRIPTION:
URL:https://uthc.de/event/saisonabschluss/
LOCATION:UTHC Clubhaus\, Am Hattsteinweiher 3\, Usingen\, Hessen\, 61250\, Deutschland
CATEGORIES:Saisonabschluss
ATTACH;FMTTYPE=image/jpeg:https://uthc.de/wp-content/uploads/2025/10/Saisonabschluss_2025.1h.jpg
ORGANIZER;CN="UTHC-Event / Organisiert von Simone Richter":MAILTO:events@uthc.de
END:VEVENT
END:VCALENDAR