BEGIN:VCALENDAR
VERSION:2.0
PRODID:-//Usinger Tennis Club e.V. - ECPv6.15.20//NONSGML v1.0//EN
CALSCALE:GREGORIAN
METHOD:PUBLISH
X-ORIGINAL-URL:https://uthc.de
X-WR-CALDESC:Veranstaltungen für Usinger Tennis Club e.V.
REFRESH-INTERVAL;VALUE=DURATION:PT1H
X-Robots-Tag:noindex
X-PUBLISHED-TTL:PT1H
BEGIN:VTIMEZONE
TZID:Europe/Berlin
BEGIN:DAYLIGHT
TZOFFSETFROM:+0100
TZOFFSETTO:+0200
TZNAME:CEST
DTSTART:20230326T010000
END:DAYLIGHT
BEGIN:STANDARD
TZOFFSETFROM:+0200
TZOFFSETTO:+0100
TZNAME:CET
DTSTART:20231029T010000
END:STANDARD
BEGIN:DAYLIGHT
TZOFFSETFROM:+0100
TZOFFSETTO:+0200
TZNAME:CEST
DTSTART:20240331T010000
END:DAYLIGHT
BEGIN:STANDARD
TZOFFSETFROM:+0200
TZOFFSETTO:+0100
TZNAME:CET
DTSTART:20241027T010000
END:STANDARD
BEGIN:DAYLIGHT
TZOFFSETFROM:+0100
TZOFFSETTO:+0200
TZNAME:CEST
DTSTART:20250330T010000
END:DAYLIGHT
BEGIN:STANDARD
TZOFFSETFROM:+0200
TZOFFSETTO:+0100
TZNAME:CET
DTSTART:20251026T010000
END:STANDARD
END:VTIMEZONE
BEGIN:VEVENT
DTSTART;TZID=Europe/Berlin:20240727T100000
DTEND;TZID=Europe/Berlin:20240727T150000
DTSTAMP:20260420T134753
CREATED:20240112T130438Z
LAST-MODIFIED:20240114T152054Z
UID:296620-1722074400-1722092400@uthc.de
SUMMARY:Ferienliga 2024 - Tag 1
DESCRIPTION:Vorankündigung / Save the date.\nAlle Informationen zu dieser Veranstaltungen folgen hier in Kürze. Hierzu zählen unter anderem Anfang und Ende. Dennoch solltet ihr euch diesen Termin schon einmal fest in euren Terminkalender einplanen.
URL:https://uthc.de/event/ferienliga-2024-tag-1/
LOCATION:UTHC Clubhaus\, Am Hattsteinweiher 3\, Usingen\, Hessen\, 61250\, Deutschland
CATEGORIES:Tennisturnier,Veranstaltungen
ATTACH;FMTTYPE=image/jpeg:https://uthc.de/wp-content/uploads/2022/08/UTHC-Ferienliga-Finale-2022-O8A3180.jpg
ORGANIZER;CN="Usinger Tennis Club e.V.":MAILTO:events@uthc.de
END:VEVENT
END:VCALENDAR