BEGIN:VCALENDAR
VERSION:2.0
PRODID:-//Usinger Tennis Club e.V. - ECPv6.15.20//NONSGML v1.0//EN
CALSCALE:GREGORIAN
METHOD:PUBLISH
X-WR-CALNAME:Usinger Tennis Club e.V.
X-ORIGINAL-URL:https://uthc.de
X-WR-CALDESC:Veranstaltungen für Usinger Tennis Club e.V.
REFRESH-INTERVAL;VALUE=DURATION:PT1H
X-Robots-Tag:noindex
X-PUBLISHED-TTL:PT1H
BEGIN:VTIMEZONE
TZID:Europe/Berlin
BEGIN:DAYLIGHT
TZOFFSETFROM:+0100
TZOFFSETTO:+0200
TZNAME:CEST
DTSTART:20230326T010000
END:DAYLIGHT
BEGIN:STANDARD
TZOFFSETFROM:+0200
TZOFFSETTO:+0100
TZNAME:CET
DTSTART:20231029T010000
END:STANDARD
BEGIN:DAYLIGHT
TZOFFSETFROM:+0100
TZOFFSETTO:+0200
TZNAME:CEST
DTSTART:20240331T010000
END:DAYLIGHT
BEGIN:STANDARD
TZOFFSETFROM:+0200
TZOFFSETTO:+0100
TZNAME:CET
DTSTART:20241027T010000
END:STANDARD
BEGIN:DAYLIGHT
TZOFFSETFROM:+0100
TZOFFSETTO:+0200
TZNAME:CEST
DTSTART:20250330T010000
END:DAYLIGHT
BEGIN:STANDARD
TZOFFSETFROM:+0200
TZOFFSETTO:+0100
TZNAME:CET
DTSTART:20251026T010000
END:STANDARD
END:VTIMEZONE
BEGIN:VEVENT
DTSTART;TZID=Europe/Berlin:20240803T100000
DTEND;TZID=Europe/Berlin:20240803T150000
DTSTAMP:20260422T120715
CREATED:20240112T130913Z
LAST-MODIFIED:20240114T152139Z
UID:296623-1722679200-1722697200@uthc.de
SUMMARY:Ferienliga 2024 - Tag 2
DESCRIPTION:Vorankündigung / Save the date.\nFerienliga: für alle zu Hause gebliebenen\, findet an 4 Wochenenden wieder die Ferienliga in den Sommerferien statt. \nZeit: 10:00 – 15:00 Uhr
URL:https://uthc.de/event/ferienliga-2024-tag-2/
LOCATION:UTHC Clubhaus\, Am Hattsteinweiher 3\, Usingen\, Hessen\, 61250\, Deutschland
ATTACH;FMTTYPE=image/jpeg:https://uthc.de/wp-content/uploads/2022/08/UTHC-Ferienliga-Finale-2022-O8A3234.jpg
ORGANIZER;CN="Usinger Tennis Club e.V.":MAILTO:events@uthc.de
END:VEVENT
BEGIN:VEVENT
DTSTART;TZID=Europe/Berlin:20240810T100000
DTEND;TZID=Europe/Berlin:20240810T150000
DTSTAMP:20260422T120715
CREATED:20240112T131225Z
LAST-MODIFIED:20240114T152225Z
UID:296627-1723284000-1723302000@uthc.de
SUMMARY:Ferienliga 2024 - Tag 3
DESCRIPTION:Vorankündigung / Save the date.\nFerienliga: für alle zu Hause gebliebenen\, findet an 4 Wochenenden wieder die Ferienliga in den Sommerferien statt. \nZeit: 10:00 – 15:00 Uhr
URL:https://uthc.de/event/ferienliga-2024-tag-3/
LOCATION:UTHC Clubhaus\, Am Hattsteinweiher 3\, Usingen\, Hessen\, 61250\, Deutschland
CATEGORIES:Tennisturnier,Veranstaltungen
ATTACH;FMTTYPE=image/jpeg:https://uthc.de/wp-content/uploads/2022/08/UTHC-Ferienliga-Finale-2022-O8A3301.jpg
ORGANIZER;CN="Usinger Tennis Club e.V.":MAILTO:events@uthc.de
END:VEVENT
BEGIN:VEVENT
DTSTART;TZID=Europe/Berlin:20240817T100000
DTEND;TZID=Europe/Berlin:20240817T150000
DTSTAMP:20260422T120715
CREATED:20240112T131540Z
LAST-MODIFIED:20240114T152322Z
UID:296630-1723888800-1723906800@uthc.de
SUMMARY:Ferienliga 2024 - Tag 4 / Finale
DESCRIPTION:Vorankündigung / Save the date.\n\nFerienliga: für alle zu Hause gebliebenen\, findet an 4 Wochenenden wieder die Ferienliga in den Sommerferien statt. \nZeit: 10:00 – 15:00 Uhr
URL:https://uthc.de/event/ferienliga-2024-tag-4-finale/
LOCATION:UTHC Clubhaus\, Am Hattsteinweiher 3\, Usingen\, Hessen\, 61250\, Deutschland
CATEGORIES:Tennisturnier,Veranstaltungen
ATTACH;FMTTYPE=image/jpeg:https://uthc.de/wp-content/uploads/2021/08/uthc_ferienliga_2021_2021_08_14_205159.jpg
ORGANIZER;CN="Usinger Tennis Club e.V.":MAILTO:events@uthc.de
END:VEVENT
END:VCALENDAR