BEGIN:VCALENDAR
VERSION:2.0
PRODID:-//Usinger Tennis Club e.V. - ECPv6.15.20//NONSGML v1.0//EN
CALSCALE:GREGORIAN
METHOD:PUBLISH
X-WR-CALNAME:Usinger Tennis Club e.V.
X-ORIGINAL-URL:https://uthc.de
X-WR-CALDESC:Veranstaltungen für Usinger Tennis Club e.V.
REFRESH-INTERVAL;VALUE=DURATION:PT1H
X-Robots-Tag:noindex
X-PUBLISHED-TTL:PT1H
BEGIN:VTIMEZONE
TZID:Europe/Berlin
BEGIN:DAYLIGHT
TZOFFSETFROM:+0100
TZOFFSETTO:+0200
TZNAME:CEST
DTSTART:20230326T010000
END:DAYLIGHT
BEGIN:STANDARD
TZOFFSETFROM:+0200
TZOFFSETTO:+0100
TZNAME:CET
DTSTART:20231029T010000
END:STANDARD
BEGIN:DAYLIGHT
TZOFFSETFROM:+0100
TZOFFSETTO:+0200
TZNAME:CEST
DTSTART:20240331T010000
END:DAYLIGHT
BEGIN:STANDARD
TZOFFSETFROM:+0200
TZOFFSETTO:+0100
TZNAME:CET
DTSTART:20241027T010000
END:STANDARD
BEGIN:DAYLIGHT
TZOFFSETFROM:+0100
TZOFFSETTO:+0200
TZNAME:CEST
DTSTART:20250330T010000
END:DAYLIGHT
BEGIN:STANDARD
TZOFFSETFROM:+0200
TZOFFSETTO:+0100
TZNAME:CET
DTSTART:20251026T010000
END:STANDARD
END:VTIMEZONE
BEGIN:VEVENT
DTSTART;TZID=Europe/Berlin:20240914T100000
DTEND;TZID=Europe/Berlin:20240914T220000
DTSTAMP:20260424T131658
CREATED:20240112T132546Z
LAST-MODIFIED:20240114T151837Z
UID:296634-1726308000-1726351200@uthc.de
SUMMARY:TTT Taunus Triple Trophy 2024 beim TCO
DESCRIPTION:Vorankündigung / Save the date.\nTTT: Taunus Triple Trophy in diesem Jahr zu Gast beim TC Obernhain\nZeit: 10:00 – Open End
URL:https://uthc.de/event/ttt-taunus-triple-trophy-2024-beim-tco/
LOCATION:TC Obernhain e.V.\, Herzbergstraße\, Wehrheim\, Hessen\, 61273\, Deutschland
CATEGORIES:Tennisturnier,Veranstaltungen
ATTACH;FMTTYPE=image/jpeg:https://uthc.de/wp-content/uploads/2023/09/UTHC_TTT_web_quer_04-09-23-82.jpg
ORGANIZER;CN="Usinger Tennis Club e.V.":MAILTO:events@uthc.de
END:VEVENT
BEGIN:VEVENT
DTSTART;TZID=Europe/Berlin:20240928T090000
DTEND;TZID=Europe/Berlin:20240928T150000
DTSTAMP:20260424T131658
CREATED:20240828T141047Z
LAST-MODIFIED:20240828T141052Z
UID:297861-1727514000-1727535600@uthc.de
SUMMARY:Jobbörse am 28.09.2024
DESCRIPTION:Jobbörse am 28.09.2024 – jetzt schon Termin vormerken.\nMacht mit\, wenn wir am 28.09. unsere Tennisanlage auf die Winterpause vorbereiten. \n\nDie Plätze 4 – 8 werden für den Winter freigeräumt\nDas Granulat von Platz 4 und 5 wird komplett abgetragen und auf die „Winterplätze 1 – 3“ verteilt\nGartenmöbel weggeräumt\n\nBeginn ist wie immer um 09:00 Uhr \nAnmeldung bei Armin unter: 0151/ 59 46 33 13 oder platzwart@uthc.de \nLiebe Grüße
URL:https://uthc.de/event/jobboerse-am-28-09-2024/
LOCATION:UTHC Clubhaus\, Am Hattsteinweiher 3\, Usingen\, Hessen\, 61250\, Deutschland
CATEGORIES:Jobbörse
ATTACH;FMTTYPE=image/jpeg:https://uthc.de/wp-content/uploads/2018/04/UTHC-Jobboerse-07-04-2018_8057.jpeg
ORGANIZER;CN="Platzwart":MAILTO:platzwart@uthc.de
END:VEVENT
END:VCALENDAR